BEGIN:VCALENDAR
VERSION:2.0
PRODID:-//イルチブレインヨガ松戸スタジオ - ECPv6.15.20//NONSGML v1.0//EN
CALSCALE:GREGORIAN
METHOD:PUBLISH
X-ORIGINAL-URL:https://ilchibrainyoga-matsudo.com
X-WR-CALDESC:イルチブレインヨガ松戸スタジオ のイベント
REFRESH-INTERVAL;VALUE=DURATION:PT1H
X-Robots-Tag:noindex
X-PUBLISHED-TTL:PT1H
BEGIN:VTIMEZONE
TZID:Asia/Tokyo
BEGIN:STANDARD
TZOFFSETFROM:+0900
TZOFFSETTO:+0900
TZNAME:JST
DTSTART:20240101T000000
END:STANDARD
END:VTIMEZONE
BEGIN:VEVENT
DTSTART;VALUE=DATE:20251029
DTEND;VALUE=DATE:20251030
DTSTAMP:20260424T225443
CREATED:20251002T024540Z
LAST-MODIFIED:20251002T024540Z
UID:3988-1761696000-1761782399@ilchibrainyoga-matsudo.com
SUMMARY:体を整える 呼吸✖️丹田強化トレーニング
DESCRIPTION:暑い夏を乗り越えて、季節は少しずつ秋へ。\n夏の疲れをそのままにせず、心と体をリセットしませんか？\n呼吸と丹田（体の中心）を強化することで、体の軸が整い、日常の疲れやストレスを解消できます。 \n内容\n•姿勢を整えるストレッチ\n•深い呼吸とリズム呼吸法\n•丹田強化エクササイズ\n•リラックス瞑想 \n効果\n•夏の疲れを癒し、自律神経のバランスを整える\n•気力・集中力アップ\n•心が落ち着き、秋を健やかに迎えられる \nこんな方におすすめ\n•夏の疲れが残っている方\n•季節の変わり目に体調を整えたい方\n•ストレスをケアしたい方\n•心身ともにリフレッシュしたい方 \n呼吸と丹田を意識することで、体も心もエネルギーチャージ！\n夏を乗り越え、実りの秋に向かう準備を一緒にしていきましょう。 \n日時：10/29（水） \nお申し込み・お問い合わせ：📞 047-369-5977 \n\nLINEからのお申し込みはこちら⇒https://lin.ee/ts0lLJP \n\n\n  \n\n\n\n\n\n \n体験ご希望日時\n		(必須)　※ご注意：月曜日は定休日です\n		\n \n—以下から選択してください—10111213141516171819時 —以下から選択してください—001020304050分 ～ のクラス\n \nお名前\n		 (必須)\n		\n \n\n \nメールアドレス\n		 (必須)\n		\n \n\n \nお電話番号（携帯可）\n		 (必須)\n		\n \n\n \nこちらのスタジオを何でお知りになりましたか？\n		 (必須)\n		\n \nチラシ看板書籍雑誌紹介Yahoo検索Google検索口コミその他Webサイト\n \nご関心があること、習得したいこと（複数可）\n \n自然治癒力アップ集中力アップダイエット体質改善ストレス緩和丹田強化呼吸法瞑想法リラックス運動不足解消姿勢がよくなりたいその他（備考欄にご記入ください）\n \n備考欄\n \n\n \n\n\n \n\n Δ \n\n\n\n株式会社DAHN WORLD JAPAN　ダンワールドジャパン
URL:https://ilchibrainyoga-matsudo.com/event/matudo-4/
LOCATION:イルチブレインヨガ松戸スタジオ\, 千葉県松戸市松戸1834-5 小川ビル 3階
ATTACH;FMTTYPE=image/jpeg:https://ilchibrainyoga-matsudo.com/wp-content/uploads/2024/09/BA4CA7D4-BC4C-4AE9-A86D-8585AD38B2C3.jpg
END:VEVENT
BEGIN:VEVENT
DTSTART;VALUE=DATE:20251021
DTEND;VALUE=DATE:20251022
DTSTAMP:20260424T225443
CREATED:20251002T024458Z
LAST-MODIFIED:20251002T024458Z
UID:3986-1761004800-1761091199@ilchibrainyoga-matsudo.com
SUMMARY:体を整える 呼吸✖️丹田強化トレーニング
DESCRIPTION:暑い夏を乗り越えて、季節は少しずつ秋へ。\n夏の疲れをそのままにせず、心と体をリセットしませんか？\n呼吸と丹田（体の中心）を強化することで、体の軸が整い、日常の疲れやストレスを解消できます。 \n内容\n•姿勢を整えるストレッチ\n•深い呼吸とリズム呼吸法\n•丹田強化エクササイズ\n•リラックス瞑想 \n効果\n•夏の疲れを癒し、自律神経のバランスを整える\n•気力・集中力アップ\n•心が落ち着き、秋を健やかに迎えられる \nこんな方におすすめ\n•夏の疲れが残っている方\n•季節の変わり目に体調を整えたい方\n•ストレスをケアしたい方\n•心身ともにリフレッシュしたい方 \n呼吸と丹田を意識することで、体も心もエネルギーチャージ！\n夏を乗り越え、実りの秋に向かう準備を一緒にしていきましょう。 \n日時：10/21（火）29（水） \nお申し込み・お問い合わせ：📞 047-369-5977 \n\nLINEからのお申し込みはこちら⇒https://lin.ee/ts0lLJP \n\n\n  \n\n\n\n\n\n \n体験ご希望日時\n		(必須)　※ご注意：月曜日は定休日です\n		\n \n—以下から選択してください—10111213141516171819時 —以下から選択してください—001020304050分 ～ のクラス\n \nお名前\n		 (必須)\n		\n \n\n \nメールアドレス\n		 (必須)\n		\n \n\n \nお電話番号（携帯可）\n		 (必須)\n		\n \n\n \nこちらのスタジオを何でお知りになりましたか？\n		 (必須)\n		\n \nチラシ看板書籍雑誌紹介Yahoo検索Google検索口コミその他Webサイト\n \nご関心があること、習得したいこと（複数可）\n \n自然治癒力アップ集中力アップダイエット体質改善ストレス緩和丹田強化呼吸法瞑想法リラックス運動不足解消姿勢がよくなりたいその他（備考欄にご記入ください）\n \n備考欄\n \n\n \n\n\n \n\n Δ \n\n\n\n株式会社DAHN WORLD JAPAN　ダンワールドジャパン
URL:https://ilchibrainyoga-matsudo.com/event/matudo-3/
LOCATION:イルチブレインヨガ松戸スタジオ\, 千葉県松戸市松戸1834-5 小川ビル 3階
ATTACH;FMTTYPE=image/jpeg:https://ilchibrainyoga-matsudo.com/wp-content/uploads/2024/09/BA4CA7D4-BC4C-4AE9-A86D-8585AD38B2C3.jpg
END:VEVENT
BEGIN:VEVENT
DTSTART;VALUE=DATE:20251014
DTEND;VALUE=DATE:20251015
DTSTAMP:20260424T225443
CREATED:20251002T024425Z
LAST-MODIFIED:20251002T024425Z
UID:3984-1760400000-1760486399@ilchibrainyoga-matsudo.com
SUMMARY:体を整える 呼吸✖️丹田強化トレーニング
DESCRIPTION:暑い夏を乗り越えて、季節は少しずつ秋へ。\n夏の疲れをそのままにせず、心と体をリセットしませんか？\n呼吸と丹田（体の中心）を強化することで、体の軸が整い、日常の疲れやストレスを解消できます。 \n内容\n•姿勢を整えるストレッチ\n•深い呼吸とリズム呼吸法\n•丹田強化エクササイズ\n•リラックス瞑想 \n効果\n•夏の疲れを癒し、自律神経のバランスを整える\n•気力・集中力アップ\n•心が落ち着き、秋を健やかに迎えられる \nこんな方におすすめ\n•夏の疲れが残っている方\n•季節の変わり目に体調を整えたい方\n•ストレスをケアしたい方\n•心身ともにリフレッシュしたい方 \n呼吸と丹田を意識することで、体も心もエネルギーチャージ！\n夏を乗り越え、実りの秋に向かう準備を一緒にしていきましょう。 \n日時：10/14（火）21（火）29（水） \nお申し込み・お問い合わせ：📞 047-369-5977 \n\nLINEからのお申し込みはこちら⇒https://lin.ee/ts0lLJP \n\n\n  \n\n\n\n\n\n \n体験ご希望日時\n		(必須)　※ご注意：月曜日は定休日です\n		\n \n—以下から選択してください—10111213141516171819時 —以下から選択してください—001020304050分 ～ のクラス\n \nお名前\n		 (必須)\n		\n \n\n \nメールアドレス\n		 (必須)\n		\n \n\n \nお電話番号（携帯可）\n		 (必須)\n		\n \n\n \nこちらのスタジオを何でお知りになりましたか？\n		 (必須)\n		\n \nチラシ看板書籍雑誌紹介Yahoo検索Google検索口コミその他Webサイト\n \nご関心があること、習得したいこと（複数可）\n \n自然治癒力アップ集中力アップダイエット体質改善ストレス緩和丹田強化呼吸法瞑想法リラックス運動不足解消姿勢がよくなりたいその他（備考欄にご記入ください）\n \n備考欄\n \n\n \n\n\n \n\n Δ \n\n\n\n株式会社DAHN WORLD JAPAN　ダンワールドジャパン
URL:https://ilchibrainyoga-matsudo.com/event/matudo-2/
LOCATION:イルチブレインヨガ松戸スタジオ\, 千葉県松戸市松戸1834-5 小川ビル 3階
ATTACH;FMTTYPE=image/jpeg:https://ilchibrainyoga-matsudo.com/wp-content/uploads/2024/09/BA4CA7D4-BC4C-4AE9-A86D-8585AD38B2C3.jpg
END:VEVENT
BEGIN:VEVENT
DTSTART;TZID=Asia/Tokyo:20251004T140000
DTEND;TZID=Asia/Tokyo:20251004T163000
DTSTAMP:20260424T225443
CREATED:20251002T023547Z
LAST-MODIFIED:20251002T023856Z
UID:3982-1759586400-1759595400@ilchibrainyoga-matsudo.com
SUMMARY:映画「LOVE HEALS」上映会 & [健康の法則]水昇火降体験会
DESCRIPTION:映画「LOVE HEALS」上映会&水昇火降体験ワークショップを開催します。 \n「LOVE HEALS」映画は、李承憲氏の著書『水昇火降』の健康法則を用いて、\n体と心の健康を回復していく人々を描いた ヒーリングドキュメンタリーです。 \n【映画のご紹介】 \n慢性痛を患うダナは、２度の脊椎手術を受けたが失敗に終わり、歩くのも困難な状態に。\nそしてダナのパートナー、クリサナは、彼女の様子を記録し始める。\n奇跡が起こることを信じ、その瞬間をカメラに収めるために…。 \n【予告編はこちら ☟】 \n \n「水昇火降」体験会 \n「水昇火降(すいしょうかこう」とは、バランスの取れたエネルギー状態を意味し、体と心を回復させる、健康法則です。 \n現代社会は情報過多で、人々の脳はとても緊張しています。それが肉体的、情緒的、精神的なら不調をもたらしています。\nこれを解決するには、肉体的なアプローチだけでは足りません。エネルギーについて理解し、体とエネルギーを「水昇火降」の状態にすることが大切です。\nこの体験会では映画「LOVE HEALS」を鑑賞し、古代から伝わる健康の法則「水昇火降」を体感して頂きます。\n日頃から不調を感じておられる方も、もっと深く自分を知りたい方も、より健康になりたい方も、ぜひ、ご体験下さい。 \n【内容】\n①健康の法則「水昇火降」とは？\n②映画「LOVE HEALS」上映\n③水昇火降体験会 \n開催日：10月4日(土)\n時間：14:00〜16:30\n会場名：イルチブレインヨガ松戸スタジオ\n会場住所：松戸市松戸1834‐5　小川ビル3階\n参加費：2\,500円\n(チケット購入済みの方は、無料体験クーポンをご提示下さい)\nトレーナー：鈴木みこう\n問合せ電話：047－369-5977 \n\nLINEからのお申し込みはこちら⇒https://lin.ee/ts0lLJP \n\n\n  \n\n\n\n\n\n \n体験ご希望日時\n		(必須)　※ご注意：月曜日は定休日です\n		\n \n—以下から選択してください—10111213141516171819時 —以下から選択してください—001020304050分 ～ のクラス\n \nお名前\n		 (必須)\n		\n \n\n \nメールアドレス\n		 (必須)\n		\n \n\n \nお電話番号（携帯可）\n		 (必須)\n		\n \n\n \nこちらのスタジオを何でお知りになりましたか？\n		 (必須)\n		\n \nチラシ看板書籍雑誌紹介Yahoo検索Google検索口コミその他Webサイト\n \nご関心があること、習得したいこと（複数可）\n \n自然治癒力アップ集中力アップダイエット体質改善ストレス緩和丹田強化呼吸法瞑想法リラックス運動不足解消姿勢がよくなりたいその他（備考欄にご記入ください）\n \n備考欄\n \n\n \n\n\n \n\n Δ \n\n\n\n株式会社DAHN WORLD JAPAN　ダンワールドジャパン
URL:https://ilchibrainyoga-matsudo.com/event/matudo/
LOCATION:イルチブレインヨガ松戸スタジオ\, 千葉県松戸市松戸1834-5 小川ビル 3階
ATTACH;FMTTYPE=image/jpeg:https://ilchibrainyoga-matsudo.com/wp-content/uploads/2024/09/BA4CA7D4-BC4C-4AE9-A86D-8585AD38B2C3.jpg
END:VEVENT
END:VCALENDAR